BEGIN:VCALENDAR
VERSION:2.0
PRODID:-//GADECCU - ECPv6.15.11//NONSGML v1.0//EN
CALSCALE:GREGORIAN
METHOD:PUBLISH
X-ORIGINAL-URL:https://www.gadeccu.org.ar
X-WR-CALDESC:Eventos para GADECCU
REFRESH-INTERVAL;VALUE=DURATION:PT1H
X-Robots-Tag:noindex
X-PUBLISHED-TTL:PT1H
BEGIN:VTIMEZONE
TZID:America/Argentina/Buenos_Aires
BEGIN:STANDARD
TZOFFSETFROM:-0300
TZOFFSETTO:-0300
TZNAME:-03
DTSTART:20200101T000000
END:STANDARD
END:VTIMEZONE
BEGIN:VEVENT
DTSTART;TZID=America/Argentina/Buenos_Aires:20210325T190000
DTEND;TZID=America/Argentina/Buenos_Aires:20210325T210000
DTSTAMP:20260421T071811
CREATED:20210322T190228Z
LAST-MODIFIED:20210322T234504Z
UID:1989-1616698800-1616706000@www.gadeccu.org.ar
SUMMARY:Posicionamiento de los JAKI en Colitis Ulcerosa
DESCRIPTION:Jueves 25 de Marzo a las 19:00hs. \n\nTema: «Posicionamiento de los JAKI en Colitis Ulcerosa. ¿Cuál es el lugar de los JAKI en la EII?» \nSpeaker Internacional: Dra. Pilar Nos – Hospital Universitari y Politécnic de la Fe\, Valencia\, España. \nModerador: Dr. Abel Novillo – Vicepresidente GADECCU
URL:https://www.gadeccu.org.ar/evento/posicionamiento-de-los-jaki-en-colitis-ulcerosa/
CATEGORIES:Webinar
ATTACH;FMTTYPE=image/jpeg:https://www.gadeccu.org.ar/wp-content/uploads/2021/03/Webinar-Jaki.jpg
END:VEVENT
END:VCALENDAR