BEGIN:VCALENDAR
VERSION:2.0
PRODID:-//GADECCU - ECPv6.15.11//NONSGML v1.0//EN
CALSCALE:GREGORIAN
METHOD:PUBLISH
X-ORIGINAL-URL:https://www.gadeccu.org.ar
X-WR-CALDESC:Eventos para GADECCU
REFRESH-INTERVAL;VALUE=DURATION:PT1H
X-Robots-Tag:noindex
X-PUBLISHED-TTL:PT1H
BEGIN:VTIMEZONE
TZID:America/Argentina/Buenos_Aires
BEGIN:STANDARD
TZOFFSETFROM:-0300
TZOFFSETTO:-0300
TZNAME:-03
DTSTART:20190101T000000
END:STANDARD
END:VTIMEZONE
BEGIN:VEVENT
DTSTART;TZID=America/Argentina/Buenos_Aires:20200519T190000
DTEND;TZID=America/Argentina/Buenos_Aires:20200519T210000
DTSTAMP:20260421T222546
CREATED:20200519T181042Z
LAST-MODIFIED:20200519T181042Z
UID:1572-1589914800-1589922000@www.gadeccu.org.ar
SUMMARY:Webinario para pacientes y familiares - Hacer que las EII Funcionen
DESCRIPTION:Panel de Expertos\nDr. Juan Andrés de Paula\nPresidente GADECCU \nDra. Marina Orsi\nGastro Pediátrica Hospital Italiano \nDr. Federico Cassella\nCoordinador SAGE Joven \nDr. Julio C. Tenca\nEncargado Módulo EII FAGE \nDr. Pablo Lubrano\nMiembro GADECCU y SAGE \n  \nEl evento se transmitirá por Facebook Live
URL:https://www.gadeccu.org.ar/evento/webinario-para-pacientes-y-familiares-hacer-que-las-eii-funcionen/
CATEGORIES:Webinar
ATTACH;FMTTYPE=image/jpeg:https://www.gadeccu.org.ar/wp-content/uploads/2020/05/Evento-EII-2019.jpg
END:VEVENT
END:VCALENDAR