BEGIN:VCALENDAR
VERSION:2.0
PRODID:-//GADECCU - ECPv6.15.11//NONSGML v1.0//EN
CALSCALE:GREGORIAN
METHOD:PUBLISH
X-WR-CALNAME:GADECCU
X-ORIGINAL-URL:https://www.gadeccu.org.ar
X-WR-CALDESC:Eventos para GADECCU
REFRESH-INTERVAL;VALUE=DURATION:PT1H
X-Robots-Tag:noindex
X-PUBLISHED-TTL:PT1H
BEGIN:VTIMEZONE
TZID:America/Argentina/Buenos_Aires
BEGIN:STANDARD
TZOFFSETFROM:-0300
TZOFFSETTO:-0300
TZNAME:-03
DTSTART:20190101T000000
END:STANDARD
END:VTIMEZONE
BEGIN:VEVENT
DTSTART;TZID=America/Argentina/Buenos_Aires:20201125T180000
DTEND;TZID=America/Argentina/Buenos_Aires:20201125T200000
DTSTAMP:20260421T114533
CREATED:20201122T211148Z
LAST-MODIFIED:20201122T211148Z
UID:1926-1606327200-1606334400@www.gadeccu.org.ar
SUMMARY:Webinar XV - Colitis Ulcerosa: nuevos conceptos a través del atlántico
DESCRIPTION:TEMARIO\n\nDesafíos en Colitis Ulcerosa moderada a severa\nPosicionamiento de los nuevos tratamientos\nToma de decisiones en la ¨vida real¨. Casos clínicos\nTrastornos funcionales complejos en pacientes neurológicos\n\nCOORDINACIÓN\n\nDra. Maricel Bellicoso (Inmunología Buenos Aires)\nDra. Josefina Etchevers (HIBA)\n\nDISERTANTES\n\nDra. Pilar Nos (España)\nHospital Universitari y Politecnic la Fe\, Valencia.\nDr. Antonio López San Román (España)\nHospital Ramón Cajal\, Madrid.\n\nEN VIVO POR EL CANAL DE\n \nINGRESÁ EN\nhttp://bit.ly/Webinar-XV
URL:https://www.gadeccu.org.ar/evento/webinar-xv-colitis-ulcerosa-nuevos-conceptos-a-traves-del-atlantico/
CATEGORIES:Webinar
ATTACH;FMTTYPE=image/png:https://www.gadeccu.org.ar/wp-content/uploads/2020/11/webinarxv.png
ORGANIZER;CN="Sociedad Argentina de Gastroenterologia":MAILTO:sagesecretaria@gmail.com
END:VEVENT
END:VCALENDAR