BEGIN:VCALENDAR
VERSION:2.0
PRODID:-//GADECCU - ECPv6.15.11//NONSGML v1.0//EN
CALSCALE:GREGORIAN
METHOD:PUBLISH
X-ORIGINAL-URL:https://www.gadeccu.org.ar
X-WR-CALDESC:Eventos para GADECCU
REFRESH-INTERVAL;VALUE=DURATION:PT1H
X-Robots-Tag:noindex
X-PUBLISHED-TTL:PT1H
BEGIN:VTIMEZONE
TZID:America/Argentina/Buenos_Aires
BEGIN:STANDARD
TZOFFSETFROM:-0300
TZOFFSETTO:-0300
TZNAME:-03
DTSTART:20210101T000000
END:STANDARD
END:VTIMEZONE
BEGIN:VEVENT
DTSTART;TZID=America/Argentina/Buenos_Aires:20221117T190000
DTEND;TZID=America/Argentina/Buenos_Aires:20221117T200000
DTSTAMP:20260422T001002
CREATED:20221116T115500Z
LAST-MODIFIED:20221116T115526Z
UID:2410-1668711600-1668715200@www.gadeccu.org.ar
SUMMARY:Primer encuentro Mindfulness
DESCRIPTION:Córdoba 2022\nGADECCU te invita\nÚnico requisito: Actitud curiosa \nFacilita: Dra. Carmen Beguiriztain \n  \nInscripción gratuita: gadeccu@gmail.com
URL:https://www.gadeccu.org.ar/evento/primer-encuentro-mindfulness/
CATEGORIES:Evento Online
ATTACH;FMTTYPE=image/png:https://www.gadeccu.org.ar/wp-content/uploads/2022/11/Mindfulness2022.png
END:VEVENT
END:VCALENDAR