BEGIN:VCALENDAR
VERSION:2.0
PRODID:-//GADECCU - ECPv6.15.11//NONSGML v1.0//EN
CALSCALE:GREGORIAN
METHOD:PUBLISH
X-ORIGINAL-URL:https://www.gadeccu.org.ar
X-WR-CALDESC:Eventos para GADECCU
REFRESH-INTERVAL;VALUE=DURATION:PT1H
X-Robots-Tag:noindex
X-PUBLISHED-TTL:PT1H
BEGIN:VTIMEZONE
TZID:America/Argentina/Buenos_Aires
BEGIN:STANDARD
TZOFFSETFROM:-0300
TZOFFSETTO:-0300
TZNAME:-03
DTSTART:20210101T000000
END:STANDARD
END:VTIMEZONE
BEGIN:VEVENT
DTSTART;TZID=America/Argentina/Buenos_Aires:20221104T090000
DTEND;TZID=America/Argentina/Buenos_Aires:20221104T180000
DTSTAMP:20260422T000402
CREATED:20221020T215459Z
LAST-MODIFIED:20221020T230654Z
UID:2384-1667552400-1667584800@www.gadeccu.org.ar
SUMMARY:III Jornadas Interdisciplinarias
DESCRIPTION:HOSPITAL PROVINCIAL CENTENARIO\nFCM-UNR\, SANTA FE 3100 (ROSARIO\, SANTA FE)\n4 de noviembre de 9:00 a 18:00hs.\nMODALIDAD HÍBRIDA – Podés asistir presencial o verlo por YouTube \nDirector: Dr. Ruffinengo Orlando\nCoordinador módulo Endoscopia: Dr. Guerrina Claudio\nCoordinador módulo Enfermedad Inflamatoria Intestinal: Dr. Montero Joaquín
URL:https://www.gadeccu.org.ar/evento/iii-jornadas-interdisciplinarias/
LOCATION:FCM-UNR\, Santa Fe 3100\, Rosario\, Santa Fe\, Argentina
CATEGORIES:Evento Online
ATTACH;FMTTYPE=image/png:https://www.gadeccu.org.ar/wp-content/uploads/2022/10/Jornadas-interdisciplinarias-Hospital-Provicnial-del-Centenario.png
ORGANIZER;CN="Hospital Provincial Centenario":MAILTO:hepagastrohpc@gmail.com
END:VEVENT
END:VCALENDAR