BEGIN:VCALENDAR
VERSION:2.0
PRODID:-//GADECCU - ECPv6.15.11//NONSGML v1.0//EN
CALSCALE:GREGORIAN
METHOD:PUBLISH
X-WR-CALNAME:GADECCU
X-ORIGINAL-URL:https://www.gadeccu.org.ar
X-WR-CALDESC:Eventos para GADECCU
REFRESH-INTERVAL;VALUE=DURATION:PT1H
X-Robots-Tag:noindex
X-PUBLISHED-TTL:PT1H
BEGIN:VTIMEZONE
TZID:America/Argentina/Buenos_Aires
BEGIN:STANDARD
TZOFFSETFROM:-0300
TZOFFSETTO:-0300
TZNAME:-03
DTSTART:20200101T000000
END:STANDARD
END:VTIMEZONE
BEGIN:VEVENT
DTSTART;TZID=America/Argentina/Buenos_Aires:20211030T103000
DTEND;TZID=America/Argentina/Buenos_Aires:20211030T123000
DTSTAMP:20260421T210243
CREATED:20211028T235800Z
LAST-MODIFIED:20211028T235800Z
UID:2209-1635589800-1635597000@www.gadeccu.org.ar
SUMMARY:Transición en EII: lo óptimo\, lo bueno\, lo posible
DESCRIPTION:Transmisión en vivo desde el Canal de YouTube de GADECCU.\nSábado 30 de Octubre a las 10:30hs. \n\nTema: «Transición en EII: lo óptimo\, lo bueno\, lo posible» \nAGENDA \n\n10:30 hs.\n«El rol de las sociedades científicas en la transición»\nDr. Omar Tabacco\n11:00 hs.\n«Qué opina el Gastroenterólogo de adulto sobre la transición: del dicho al hecho»\nDr. Daniel D´Agostino\n11:30 hs.\n«Hecho con esfuerzo»\nDra. Mónica Contreras\n12:00 hs.\nPreguntas abiertas al panel\n\n\nSuscribite a nuestro nuevo Canal de YouTube para recibir las notificaciones de nuestros próximos eventos
URL:https://www.gadeccu.org.ar/evento/transicion-en-eii-lo-optimo-lo-bueno-lo-posible/
CATEGORIES:Evento Online
ATTACH;FMTTYPE=image/jpeg:https://www.gadeccu.org.ar/wp-content/uploads/2021/10/Evento3010.jpg
END:VEVENT
END:VCALENDAR