BEGIN:VCALENDAR
VERSION:2.0
PRODID:-//GADECCU - ECPv6.15.11//NONSGML v1.0//EN
CALSCALE:GREGORIAN
METHOD:PUBLISH
X-WR-CALNAME:GADECCU
X-ORIGINAL-URL:https://www.gadeccu.org.ar
X-WR-CALDESC:Eventos para GADECCU
REFRESH-INTERVAL;VALUE=DURATION:PT1H
X-Robots-Tag:noindex
X-PUBLISHED-TTL:PT1H
BEGIN:VTIMEZONE
TZID:America/Argentina/Buenos_Aires
BEGIN:STANDARD
TZOFFSETFROM:-0300
TZOFFSETTO:-0300
TZNAME:-03
DTSTART:20200101T000000
END:STANDARD
END:VTIMEZONE
BEGIN:VEVENT
DTSTART;TZID=America/Argentina/Buenos_Aires:20211020T180000
DTEND;TZID=America/Argentina/Buenos_Aires:20211020T193000
DTSTAMP:20260421T210319
CREATED:20211020T165252Z
LAST-MODIFIED:20211030T170108Z
UID:2222-1634752800-1634758200@www.gadeccu.org.ar
SUMMARY:IBD Forum Latam 2021
DESCRIPTION:20\, 21 y 23 de Octubre de 2021 \nInvitados Internacionales: \n\nDra. Pilar Nos (España)\nDr. Fernando Gomollón García (España)\nDra. María Teresa Abreu (USA)\nDr. Kenneth Croitoru (Canadá)
URL:https://www.gadeccu.org.ar/evento/ibd-forum-latam-2021/
CATEGORIES:Evento Online
ATTACH;FMTTYPE=image/jpeg:https://www.gadeccu.org.ar/wp-content/uploads/2021/10/IBD-Forum-2021.jpg
END:VEVENT
END:VCALENDAR