BEGIN:VCALENDAR
VERSION:2.0
PRODID:-//GADECCU - ECPv6.15.11//NONSGML v1.0//EN
CALSCALE:GREGORIAN
METHOD:PUBLISH
X-ORIGINAL-URL:https://www.gadeccu.org.ar
X-WR-CALDESC:Eventos para GADECCU
REFRESH-INTERVAL;VALUE=DURATION:PT1H
X-Robots-Tag:noindex
X-PUBLISHED-TTL:PT1H
BEGIN:VTIMEZONE
TZID:America/Argentina/Buenos_Aires
BEGIN:STANDARD
TZOFFSETFROM:-0300
TZOFFSETTO:-0300
TZNAME:-03
DTSTART:20200101T000000
END:STANDARD
END:VTIMEZONE
BEGIN:VEVENT
DTSTART;TZID=America/Argentina/Buenos_Aires:20211014T174500
DTEND;TZID=America/Argentina/Buenos_Aires:20211014T220000
DTSTAMP:20260421T210407
CREATED:20211011T171451Z
LAST-MODIFIED:20211030T171620Z
UID:2228-1634233500-1634248800@www.gadeccu.org.ar
SUMMARY:7th S-ECCO International IBD Workshop 2021
DESCRIPTION:14\, 15 y 16 de Octubre de 2021 \n\nTotalmente virtual\nPresentaciones en Vivo\nAulas grabadas\n3 meses para asistir
URL:https://www.gadeccu.org.ar/evento/2228/
CATEGORIES:Evento Online
ATTACH;FMTTYPE=image/jpeg:https://www.gadeccu.org.ar/wp-content/uploads/2021/10/S-ECCO.jpg
END:VEVENT
END:VCALENDAR